BEGIN:VCALENDAR
VERSION:2.0
PRODID:-//eventon.com NONSGML v1.0//EN
CALSCALE:GREGORIAN
METHOD:PUBLISH
BEGIN:VEVENT
UID:69e72e78042b3
DTSTAMP:20260421T075952Z
DTSTART:20220315T220000Z
DTEND:20220316T035000Z
LOCATION:London
SUMMARY:Fire Extinguisher Safety  - LONDON
DESCRIPTION:Fire Extinguisher Safety - LONDON\nhttps://liunalocal1059.com/e
 vents/fire-extinguisher-safety-london-3/
URL:https://liunalocal1059.com/events/fire-extinguisher-safety-london-3/
END:VEVENT
END:VCALENDAR