BEGIN:VCALENDAR
VERSION:2.0
PRODID:-//eventon.com NONSGML v1.0//EN
CALSCALE:GREGORIAN
METHOD:PUBLISH
BEGIN:VEVENT
UID:69e9dc9e537fd
DTSTAMP:20260423T084726Z
DTSTART:20220227T130000Z
DTEND:20220228T045000Z
LOCATION:Walkerton
SUMMARY:Ground Disturbance - WALKERTON
DESCRIPTION:Ground Disturbance - WALKERTON\nhttps://liunalocal1059.com/even
 ts/ground-disturbance-walkerton-7/
URL:https://liunalocal1059.com/events/ground-disturbance-walkerton-7/
END:VEVENT
END:VCALENDAR