BEGIN:VCALENDAR
VERSION:2.0
PRODID:-//eventon.com NONSGML v1.0//EN
CALSCALE:GREGORIAN
METHOD:PUBLISH
BEGIN:VEVENT
UID:69e8da8ddc72c
DTSTAMP:20260422T142621Z
DTSTART:20220129T130000Z
DTEND:20220130T045000Z
LOCATION:London
SUMMARY:Chainsaw/Quick-cut Safety-LONDON (FULL)
DESCRIPTION:Chainsaw/Quick-cut Safety-LONDON (FULL)\nhttps://liunalocal1059
 .com/events/chainsaw-quick-cut-safety-london-4/
URL:https://liunalocal1059.com/events/chainsaw-quick-cut-safety-london-4/
END:VEVENT
END:VCALENDAR