BEGIN:VCALENDAR
VERSION:2.0
PRODID:-//eventon.com NONSGML v1.0//EN
CALSCALE:GREGORIAN
METHOD:PUBLISH
BEGIN:VEVENT
UID:69e743b6b7169
DTSTAMP:20260421T093030Z
DTSTART:20211120T180000Z
DTEND:20211121T045000Z
LOCATION:Walkerton
SUMMARY:Traffic Control - WALKERTON
DESCRIPTION:Traffic Control - WALKERTON\nhttps://liunalocal1059.com/events/
 traffic-control-walkerton-7/
URL:https://liunalocal1059.com/events/traffic-control-walkerton-7/
END:VEVENT
END:VCALENDAR