BEGIN:VCALENDAR
VERSION:2.0
PRODID:-//eventon.com NONSGML v1.0//EN
CALSCALE:GREGORIAN
METHOD:PUBLISH
BEGIN:VEVENT
UID:69e9df3aa365c
DTSTAMP:20260423T085834Z
DTSTART:20210911T120000Z
DTEND:20210912T200000Z
LOCATION:London
SUMMARY:First Aid/CPR Level C  - LONDON
DESCRIPTION:First Aid/CPR Level C - LONDON\nhttps://liunalocal1059.com/even
 ts/first-aid-cpr-level-c-london-3/
URL:https://liunalocal1059.com/events/first-aid-cpr-level-c-london-3/
END:VEVENT
END:VCALENDAR