BEGIN:VCALENDAR
VERSION:2.0
PRODID:-//eventon.com NONSGML v1.0//EN
CALSCALE:GREGORIAN
METHOD:PUBLISH
BEGIN:VEVENT
UID:69e742872d9c5
DTSTAMP:20260421T092527Z
DTSTART:20210807
DTEND:20210808
LOCATION:Walkerton
SUMMARY:Confined Space Entry - (FULL) WALKERTON
DESCRIPTION:Confined Space Entry - (FULL) WALKERTON\nhttps://liunalocal1059
 .com/events/confined-space-safety-full-walkerton/
URL:https://liunalocal1059.com/events/confined-space-safety-full-walkerton/
END:VEVENT
END:VCALENDAR