BEGIN:VCALENDAR
VERSION:2.0
PRODID:-//eventon.com NONSGML v1.0//EN
CALSCALE:GREGORIAN
METHOD:PUBLISH
BEGIN:VEVENT
UID:69e73fb1b8c58
DTSTAMP:20260421T091321Z
DTSTART:20210814T120000Z
DTEND:20210815T200000Z
LOCATION:London
SUMMARY:First Aid/CPR Level C - LONDON (FULL)
DESCRIPTION:First Aid/CPR Level C - LONDON (FULL)\nhttps://liunalocal1059.c
 om/events/first-aid-cpr-level-c-london-full/
URL:https://liunalocal1059.com/events/first-aid-cpr-level-c-london-full/
END:VEVENT
END:VCALENDAR