BEGIN:VCALENDAR
VERSION:2.0
PRODID:-//eventon.com NONSGML v1.0//EN
CALSCALE:GREGORIAN
METHOD:PUBLISH
BEGIN:VEVENT
UID:69e9dbf1ea707
DTSTAMP:20260423T084433Z
DTSTART:20260530T120000Z
DTEND:20260530T200000Z
LOCATION:London
SUMMARY:OTM - Book 7 - LONDON
DESCRIPTION:\nhttps://liunalocal1059.com/events/otm-book-7-london-13/
URL:https://liunalocal1059.com/events/otm-book-7-london-13/
END:VEVENT
END:VCALENDAR