BEGIN:VCALENDAR
VERSION:2.0
PRODID:-//eventon.com NONSGML v1.0//EN
CALSCALE:GREGORIAN
METHOD:PUBLISH
BEGIN:VEVENT
UID:69e9e89c22678
DTSTAMP:20260423T093836Z
DTSTART:20260502T120000Z
DTEND:20260502T200000Z
LOCATION:London
SUMMARY:Ground Disturbance—LONDON
DESCRIPTION:\nhttps://liunalocal1059.com/events/ground-disturbance-london-6
 8/
URL:https://liunalocal1059.com/events/ground-disturbance-london-68/
END:VEVENT
END:VCALENDAR