BEGIN:VCALENDAR
VERSION:2.0
PRODID:-//eventon.com NONSGML v1.0//EN
CALSCALE:GREGORIAN
METHOD:PUBLISH
BEGIN:VEVENT
UID:69e9dbb47d034
DTSTAMP:20260423T084332Z
DTSTART:20260509T120000Z
DTEND:20260509T200000Z
LOCATION:Walkerton
SUMMARY:Ground Disturbance — WALKERTON
DESCRIPTION:\nhttps://liunalocal1059.com/events/ground-disturbance-walkerto
 n-37/
URL:https://liunalocal1059.com/events/ground-disturbance-walkerton-37/
END:VEVENT
END:VCALENDAR