BEGIN:VCALENDAR
VERSION:2.0
PRODID:-//eventon.com NONSGML v1.0//EN
CALSCALE:GREGORIAN
METHOD:PUBLISH
BEGIN:VEVENT
UID:69e61fe09017f
DTSTAMP:20260420T124520Z
DTSTART:20260425T120000Z
DTEND:20260425T200000Z
LOCATION:London
SUMMARY:Working at Heights - LONDON
DESCRIPTION:\nhttps://liunalocal1059.com/events/working-at-heights-london-1
 07/
URL:https://liunalocal1059.com/events/working-at-heights-london-107/
END:VEVENT
END:VCALENDAR