BEGIN:VCALENDAR
VERSION:2.0
PRODID:-//eventon.com NONSGML v1.0//EN
CALSCALE:GREGORIAN
METHOD:PUBLISH
BEGIN:VEVENT
UID:69e9dc315f466
DTSTAMP:20260423T084537Z
DTSTART:20260421T220000Z
DTEND:20260422T013000Z
LOCATION:London
SUMMARY:Working at Heights Refresher—LONDON (FULL)
DESCRIPTION:\nhttps://liunalocal1059.com/events/working-at-heights-refreshe
 r-london-141/
URL:https://liunalocal1059.com/events/working-at-heights-refresher-london-141/
END:VEVENT
END:VCALENDAR