BEGIN:VCALENDAR
VERSION:2.0
PRODID:-//eventon.com NONSGML v1.0//EN
CALSCALE:GREGORIAN
METHOD:PUBLISH
BEGIN:VEVENT
UID:69e9e46008e0b
DTSTAMP:20260423T092032Z
DTSTART:20260425T120000Z
DTEND:20260425T200000Z
LOCATION:Walkerton
SUMMARY:Working at Heights - WALKERTON
DESCRIPTION:\nhttps://liunalocal1059.com/events/working-at-heights-walkerto
 n-42/
URL:https://liunalocal1059.com/events/working-at-heights-walkerton-42/
END:VEVENT
END:VCALENDAR