BEGIN:VCALENDAR
VERSION:2.0
PRODID:-//eventon.com NONSGML v1.0//EN
CALSCALE:GREGORIAN
METHOD:PUBLISH
BEGIN:VEVENT
UID:69e88e96b7889
DTSTAMP:20260422T090214Z
DTSTART:20260418T120000Z
DTEND:20260419T200000Z
LOCATION:London
SUMMARY:Skid Steer Safety (2-day course)—LONDON
DESCRIPTION:\nhttps://liunalocal1059.com/events/skid-steer-safety-2-day-cou
 rse-london-18/
URL:https://liunalocal1059.com/events/skid-steer-safety-2-day-course-london-18/
END:VEVENT
END:VCALENDAR