BEGIN:VCALENDAR
VERSION:2.0
PRODID:-//eventon.com NONSGML v1.0//EN
CALSCALE:GREGORIAN
METHOD:PUBLISH
BEGIN:VEVENT
UID:69e8dab1413b9
DTSTAMP:20260422T142657Z
DTSTART:20250726T120000Z
DTEND:20250727T200000Z
LOCATION:Local 1059 Training Centre 635 Wilton Grove Road
SUMMARY:Rough Terrain Fork Lift (CSA Class 7) (2-day course)—LONDON (FULL)
DESCRIPTION:\nhttps://liunalocal1059.com/events/rough-terrain-fork-lift-csa
 -class-7-2-day-course-london-19/
URL:https://liunalocal1059.com/events/rough-terrain-fork-lift-csa-class-7-2-day-course-london-19/
END:VEVENT
END:VCALENDAR