BEGIN:VCALENDAR
VERSION:2.0
PRODID:-//eventon.com NONSGML v1.0//EN
CALSCALE:GREGORIAN
METHOD:PUBLISH
BEGIN:VEVENT
UID:69e72ef977355
DTSTAMP:20260421T080201Z
DTSTART:20250422T220000Z
DTEND:20250423T013000Z
LOCATION:London
SUMMARY:Construction Legislation - LONDON
DESCRIPTION:\nhttps://liunalocal1059.com/events/construction-legislation-lo
 ndon-21/
URL:https://liunalocal1059.com/events/construction-legislation-london-21/
END:VEVENT
END:VCALENDAR