BEGIN:VCALENDAR
VERSION:2.0
PRODID:-//eventon.com NONSGML v1.0//EN
CALSCALE:GREGORIAN
METHOD:PUBLISH
BEGIN:VEVENT
UID:69e742f466862
DTSTAMP:20260421T092716Z
DTSTART:20250218T230000Z
DTEND:20250219T023000Z
LOCATION:London
SUMMARY:Working at Heights Refresher - LONDON (FULL)
DESCRIPTION:\nhttps://liunalocal1059.com/events/working-at-heights-refreshe
 r-london-103/
URL:https://liunalocal1059.com/events/working-at-heights-refresher-london-103/
END:VEVENT
END:VCALENDAR