BEGIN:VCALENDAR
VERSION:2.0
PRODID:-//eventon.com NONSGML v1.0//EN
CALSCALE:GREGORIAN
METHOD:PUBLISH
BEGIN:VEVENT
UID:69e72d3d2de2b
DTSTAMP:20260421T075437Z
DTSTART:20250118T130000Z
DTEND:20250119T210000Z
LOCATION:London
SUMMARY:Mini Excavator (2-day course) - LONDON (FULL)
DESCRIPTION:\nhttps://liunalocal1059.com/events/mini-excavator-2-day-course
 -london-22/
URL:https://liunalocal1059.com/events/mini-excavator-2-day-course-london-22/
END:VEVENT
END:VCALENDAR