BEGIN:VCALENDAR
VERSION:2.0
PRODID:-//eventon.com NONSGML v1.0//EN
CALSCALE:GREGORIAN
METHOD:PUBLISH
BEGIN:VEVENT
UID:69e742d9b8999
DTSTAMP:20260421T092649Z
DTSTART:20241205T130000Z
DTEND:20241206T210000Z
LOCATION:London
SUMMARY:Basics of Supervising - IHSA (2-day course) - LONDON
DESCRIPTION:\nhttps://liunalocal1059.com/events/basics-of-supervising-ihsa-
 2-day-course-london-6/
URL:https://liunalocal1059.com/events/basics-of-supervising-ihsa-2-day-course-london-6/
END:VEVENT
END:VCALENDAR