BEGIN:VCALENDAR
VERSION:2.0
PRODID:-//eventon.com NONSGML v1.0//EN
CALSCALE:GREGORIAN
METHOD:PUBLISH
BEGIN:VEVENT
UID:69e743a4ea40f
DTSTAMP:20260421T093012Z
DTSTART:20241005T120000Z
DTEND:20241005T200000Z
LOCATION:Local 1059 Training Centre 635 Wilton Grove Road
SUMMARY:Propane Safety (CH-O2) - LONDON
DESCRIPTION:\nhttps://liunalocal1059.com/events/propane-safety-ch-o2-london
 -55/
URL:https://liunalocal1059.com/events/propane-safety-ch-o2-london-55/
END:VEVENT
END:VCALENDAR