BEGIN:VCALENDAR
VERSION:2.0
PRODID:-//eventon.com NONSGML v1.0//EN
CALSCALE:GREGORIAN
METHOD:PUBLISH
BEGIN:VEVENT
UID:69e7439c117b0
DTSTAMP:20260421T093004Z
DTSTART:20240910T220000Z
DTEND:20240911T013000Z
LOCATION:London
SUMMARY:Workplace Violence and Harassment - LONDON
DESCRIPTION:\nhttps://liunalocal1059.com/events/workplace-violence-and-hara
 ssment-london-11/
URL:https://liunalocal1059.com/events/workplace-violence-and-harassment-london-11/
END:VEVENT
END:VCALENDAR