BEGIN:VCALENDAR
VERSION:2.0
PRODID:-//eventon.com NONSGML v1.0//EN
CALSCALE:GREGORIAN
METHOD:PUBLISH
BEGIN:VEVENT
UID:69e742037fddb
DTSTAMP:20260421T092315Z
DTSTART:20240903T220000Z
DTEND:20240904T013000Z
LOCATION:London
SUMMARY:Traffic Control - LONDON
DESCRIPTION:\nhttps://liunalocal1059.com/events/traffic-control-london-40/
URL:https://liunalocal1059.com/events/traffic-control-london-40/
END:VEVENT
END:VCALENDAR