BEGIN:VCALENDAR
VERSION:2.0
PRODID:-//eventon.com NONSGML v1.0//EN
CALSCALE:GREGORIAN
METHOD:PUBLISH
BEGIN:VEVENT
UID:69e72d579d475
DTSTAMP:20260421T075503Z
DTSTART:20240720T120000Z
DTEND:20240721T200000Z
LOCATION:London
SUMMARY:Mini Excavator (2-day course) - LONDON
DESCRIPTION:\nhttps://liunalocal1059.com/events/mini-excavator-2-day-course
 -london-17/
URL:https://liunalocal1059.com/events/mini-excavator-2-day-course-london-17/
END:VEVENT
END:VCALENDAR