BEGIN:VCALENDAR
VERSION:2.0
PRODID:-//eventon.com NONSGML v1.0//EN
CALSCALE:GREGORIAN
METHOD:PUBLISH
BEGIN:VEVENT
UID:69e9de396a68a
DTSTAMP:20260423T085417Z
DTSTART:20240420T120000Z
DTEND:20240420T200000Z
LOCATION:London
SUMMARY:Confined Space Entry - LONDON (FULL)
DESCRIPTION:\nhttps://liunalocal1059.com/events/confined-space-entry-london
 -54/
URL:https://liunalocal1059.com/events/confined-space-entry-london-54/
END:VEVENT
END:VCALENDAR