BEGIN:VCALENDAR
VERSION:2.0
PRODID:-//eventon.com NONSGML v1.0//EN
CALSCALE:GREGORIAN
METHOD:PUBLISH
BEGIN:VEVENT
UID:69e73134447d4
DTSTAMP:20260421T081132Z
DTSTART:20240227T230000Z
DTEND:20240228T023000Z
LOCATION:London
SUMMARY:Working at Heights Refresher - LONDON (FULL)
DESCRIPTION:\nhttps://liunalocal1059.com/events/working-at-heights-refreshe
 r-london-73/
URL:https://liunalocal1059.com/events/working-at-heights-refresher-london-73/
END:VEVENT
END:VCALENDAR