BEGIN:VCALENDAR
VERSION:2.0
PRODID:-//eventon.com NONSGML v1.0//EN
CALSCALE:GREGORIAN
METHOD:PUBLISH
BEGIN:VEVENT
UID:69e741efa7c2c
DTSTAMP:20260421T092255Z
DTSTART:20240113T130000Z
DTEND:20240113T210000Z
LOCATION:London
SUMMARY:Basic Hoisting and Rigging - LONDON (FULL)
DESCRIPTION:\nhttps://liunalocal1059.com/events/basic-hoisting-and-rigging-
 london-4/
URL:https://liunalocal1059.com/events/basic-hoisting-and-rigging-london-4/
END:VEVENT
END:VCALENDAR