BEGIN:VCALENDAR
VERSION:2.0
PRODID:-//eventon.com NONSGML v1.0//EN
CALSCALE:GREGORIAN
METHOD:PUBLISH
BEGIN:VEVENT
UID:69e89ce2e6fa0
DTSTAMP:20260422T100314Z
DTSTART:20230919T220000Z
DTEND:20230920T013000Z
LOCATION:Local 1059 Training Centre 635 Wilton Grove Road
SUMMARY:Workplace Violence and Harassment - LONDON
DESCRIPTION:\nhttps://liunalocal1059.com/events/workplace-violence-and-hara
 ssment-london-4/
URL:https://liunalocal1059.com/events/workplace-violence-and-harassment-london-4/
END:VEVENT
END:VCALENDAR