BEGIN:VCALENDAR
VERSION:2.0
PRODID:-//eventon.com NONSGML v1.0//EN
CALSCALE:GREGORIAN
METHOD:PUBLISH
BEGIN:VEVENT
UID:69e9dcd10416d
DTSTAMP:20260423T084817Z
DTSTART:20230905T220000Z
DTEND:20230906T013000Z
LOCATION:London
SUMMARY:Working at Heights Refresher - LONDON
DESCRIPTION:\nhttps://liunalocal1059.com/events/working-at-heights-refreshe
 r-london-61/
URL:https://liunalocal1059.com/events/working-at-heights-refresher-london-61/
END:VEVENT
END:VCALENDAR