BEGIN:VCALENDAR
VERSION:2.0
PRODID:-//eventon.com NONSGML v1.0//EN
CALSCALE:GREGORIAN
METHOD:PUBLISH
BEGIN:VEVENT
UID:69e731537c696
DTSTAMP:20260421T081203Z
DTSTART:20230902T120000Z
DTEND:20230902T200000Z
LOCATION:London
SUMMARY:Working at Heights - LONDON
DESCRIPTION:\nhttps://liunalocal1059.com/events/working-at-heights-london-5
 5/
URL:https://liunalocal1059.com/events/working-at-heights-london-55/
END:VEVENT
END:VCALENDAR