BEGIN:VCALENDAR
VERSION:2.0
PRODID:-//eventon.com NONSGML v1.0//EN
CALSCALE:GREGORIAN
METHOD:PUBLISH
BEGIN:VEVENT
UID:69e74386c0757
DTSTAMP:20260421T092942Z
DTSTART:20230722T120000Z
DTEND:20230722T200000Z
LOCATION:Walkerton
SUMMARY:Ground Disturbance - WALKERTON
DESCRIPTION:\nhttps://liunalocal1059.com/events/ground-disturbance-walkerto
 n-21/
URL:https://liunalocal1059.com/events/ground-disturbance-walkerton-21/
END:VEVENT
END:VCALENDAR