BEGIN:VCALENDAR
VERSION:2.0
PRODID:-//eventon.com NONSGML v1.0//EN
CALSCALE:GREGORIAN
METHOD:PUBLISH
BEGIN:VEVENT
UID:69e72eb69baf6
DTSTAMP:20260421T080054Z
DTSTART:20230617T120000Z
DTEND:20230617T200000Z
LOCATION:London
SUMMARY:Confined Space Entry - LONDON
DESCRIPTION:\nhttps://liunalocal1059.com/events/confined-space-entry-london
 -35/
URL:https://liunalocal1059.com/events/confined-space-entry-london-35/
END:VEVENT
END:VCALENDAR