BEGIN:VCALENDAR
VERSION:2.0
PRODID:-//eventon.com NONSGML v1.0//EN
CALSCALE:GREGORIAN
METHOD:PUBLISH
BEGIN:VEVENT
UID:69e742eb7a686
DTSTAMP:20260421T092707Z
DTSTART:20230610T120000Z
DTEND:20230610T200000Z
LOCATION:London
SUMMARY:Ground Disturbance - LONDON
DESCRIPTION:\nhttps://liunalocal1059.com/events/ground-disturbance-london-3
 3/
URL:https://liunalocal1059.com/events/ground-disturbance-london-33/
END:VEVENT
END:VCALENDAR