BEGIN:VCALENDAR
VERSION:2.0
PRODID:-//eventon.com NONSGML v1.0//EN
CALSCALE:GREGORIAN
METHOD:PUBLISH
BEGIN:VEVENT
UID:69eb2f7e5ec44
DTSTAMP:20260424T085318Z
DTSTART:20230325T120000Z
DTEND:20230326T035000Z
LOCATION:Local 1059 Training Centre 635 Wilton Grove Road
SUMMARY:Propane Safety (CH-02) - LONDON
DESCRIPTION:\nhttps://liunalocal1059.com/events/propane-safety-ch-02-london
 /
URL:https://liunalocal1059.com/events/propane-safety-ch-02-london/
END:VEVENT
END:VCALENDAR