BEGIN:VCALENDAR
VERSION:2.0
PRODID:-//eventon.com NONSGML v1.0//EN
CALSCALE:GREGORIAN
METHOD:PUBLISH
BEGIN:VEVENT
UID:69e9dc8be1cd8
DTSTAMP:20260423T084707Z
DTSTART:20230128T130000Z
DTEND:20230129T210000Z
LOCATION:London
SUMMARY:Asbestos Abatement Worker (253W) - LONDON (FULL)
DESCRIPTION:Asbestos Abatement Worker (253W) - LONDON (FULL)\nhttps://liuna
 local1059.com/events/asbestos-abatement-worker-253w-london-full/
URL:https://liunalocal1059.com/events/asbestos-abatement-worker-253w-london-full/
END:VEVENT
END:VCALENDAR