BEGIN:VCALENDAR
VERSION:2.0
PRODID:-//eventon.com NONSGML v1.0//EN
CALSCALE:GREGORIAN
METHOD:PUBLISH
BEGIN:VEVENT
UID:69e72e6e198bd
DTSTAMP:20260421T075942Z
DTSTART:20230128T130000Z
DTEND:20230129T045000Z
LOCATION:London
SUMMARY:Propane Safety (CH-O2) - LONDON (FULL)
DESCRIPTION:Propane Safety (CH-O2) - LONDON (FULL)\nhttps://liunalocal1059.
 com/events/propane-safety-ch-o2-london-23/
URL:https://liunalocal1059.com/events/propane-safety-ch-o2-london-23/
END:VEVENT
END:VCALENDAR