BEGIN:VCALENDAR
VERSION:2.0
PRODID:-//eventon.com NONSGML v1.0//EN
CALSCALE:GREGORIAN
METHOD:PUBLISH
BEGIN:VEVENT
UID:69ea15df910d9
DTSTAMP:20260423T125143Z
DTSTART:20230121T130000Z
DTEND:20230122T045000Z
LOCATION:London
SUMMARY:Hoisting & Rigging - Basic- LONDON
DESCRIPTION:Hoisting & Rigging - Basic- LONDON\nhttps://liunalocal1059.com/
 events/hoisting-rigging-basic-london-16/
URL:https://liunalocal1059.com/events/hoisting-rigging-basic-london-16/
END:VEVENT
END:VCALENDAR