BEGIN:VCALENDAR
VERSION:2.0
PRODID:-//eventon.com NONSGML v1.0//EN
CALSCALE:GREGORIAN
METHOD:PUBLISH
BEGIN:VEVENT
UID:69e730abe8a80
DTSTAMP:20260421T080915Z
DTSTART:20221210T130000Z
DTEND:20221211T045000Z
LOCATION:Walkerton
SUMMARY:Traffic Control and Signal Person- WALKERTON
DESCRIPTION:Traffic Control and Signal Person- WALKERTON\nhttps://liunaloca
 l1059.com/events/traffic-control-and-signal-person-walkerton-4/
URL:https://liunalocal1059.com/events/traffic-control-and-signal-person-walkerton-4/
END:VEVENT
END:VCALENDAR