BEGIN:VCALENDAR
VERSION:2.0
PRODID:-//eventon.com NONSGML v1.0//EN
CALSCALE:GREGORIAN
METHOD:PUBLISH
BEGIN:VEVENT
UID:69e620ac35ff8
DTSTAMP:20260420T124844Z
DTSTART:20221018T220000Z
DTEND:20221019T035000Z
LOCATION:London
SUMMARY:Traffic Control and Signal Person - LONDON
DESCRIPTION:Traffic Control and Signal Person - LONDON\nhttps://liunalocal1
 059.com/events/traffic-control-and-signal-person-london-8/
URL:https://liunalocal1059.com/events/traffic-control-and-signal-person-london-8/
END:VEVENT
END:VCALENDAR