BEGIN:VCALENDAR
VERSION:2.0
PRODID:-//eventon.com NONSGML v1.0//EN
CALSCALE:GREGORIAN
METHOD:PUBLISH
BEGIN:VEVENT
UID:69e8899d94296
DTSTAMP:20260422T084101Z
DTSTART:20221008T120000Z
DTEND:20221009T200000Z
LOCATION:London
SUMMARY:First Aid/CPR Level C  - LONDON (FULL)
DESCRIPTION:First Aid/CPR Level C - LONDON (FULL)\nhttps://liunalocal1059.c
 om/events/first-aid-cpr-level-c-london-30/
URL:https://liunalocal1059.com/events/first-aid-cpr-level-c-london-30/
END:VEVENT
END:VCALENDAR