BEGIN:VCALENDAR
VERSION:2.0
PRODID:-//eventon.com NONSGML v1.0//EN
CALSCALE:GREGORIAN
METHOD:PUBLISH
BEGIN:VEVENT
UID:69e888ddba0f5
DTSTAMP:20260422T083749Z
DTSTART:20221001T120000Z
DTEND:20221002T035000Z
LOCATION:London
SUMMARY:Propane Safety (CH-O2) - LONDON
DESCRIPTION:Propane Safety (CH-O2) - LONDON\nhttps://liunalocal1059.com/eve
 nts/propane-safety-ch-o2-london-16/
URL:https://liunalocal1059.com/events/propane-safety-ch-o2-london-16/
END:VEVENT
END:VCALENDAR