BEGIN:VCALENDAR
VERSION:2.0
PRODID:-//eventon.com NONSGML v1.0//EN
CALSCALE:GREGORIAN
METHOD:PUBLISH
BEGIN:VEVENT
UID:69e8c35cf3e78
DTSTAMP:20260422T124724Z
DTSTART:20220806T120000Z
DTEND:20220807T200000Z
LOCATION:Walkerton
SUMMARY:Mini Excavator Safety - WALKERTON
DESCRIPTION:Mini Excavator Safety - WALKERTON\nhttps://liunalocal1059.com/e
 vents/mini-excavator-safety-london-3/
URL:https://liunalocal1059.com/events/mini-excavator-safety-london-3/
END:VEVENT
END:VCALENDAR