BEGIN:VCALENDAR
VERSION:2.0
PRODID:-//eventon.com NONSGML v1.0//EN
CALSCALE:GREGORIAN
METHOD:PUBLISH
BEGIN:VEVENT
UID:69e888c5c0907
DTSTAMP:20260422T083725Z
DTSTART:20220723T120000Z
DTEND:20220724T035000Z
LOCATION:London
SUMMARY:Power Elevated Work Platform Safety-LONDON
DESCRIPTION:Power Elevated Work Platform Safety-LONDON\nhttps://liunalocal1
 059.com/events/power-elevated-work-platform-safety-london-4/
URL:https://liunalocal1059.com/events/power-elevated-work-platform-safety-london-4/
END:VEVENT
END:VCALENDAR