BEGIN:VCALENDAR
VERSION:2.0
PRODID:-//eventon.com NONSGML v1.0//EN
CALSCALE:GREGORIAN
METHOD:PUBLISH
BEGIN:VEVENT
UID:69e8c47f459c0
DTSTAMP:20260422T125215Z
DTSTART:20220618T130000Z
DTEND:20220618T080000Z
LOCATION:Walkerton
SUMMARY:First Aid/CPR Level C - WALKERTON
DESCRIPTION:First Aid/CPR Level C - WALKERTON\nhttps://liunalocal1059.com/e
 vents/first-aid-cpr-level-c-walkerton-10/
URL:https://liunalocal1059.com/events/first-aid-cpr-level-c-walkerton-10/
END:VEVENT
END:VCALENDAR