BEGIN:VCALENDAR
VERSION:2.0
PRODID:-//eventon.com NONSGML v1.0//EN
CALSCALE:GREGORIAN
METHOD:PUBLISH
BEGIN:VEVENT
UID:69e743389c65f
DTSTAMP:20260421T092824Z
DTSTART:20220618T120000Z
DTEND:20220619T035000Z
LOCATION:London
SUMMARY:OTM-Book 7 - LONDON
DESCRIPTION:OTM-Book 7 - LONDON\nhttps://liunalocal1059.com/events/otm-book
 -7-london/
URL:https://liunalocal1059.com/events/otm-book-7-london/
END:VEVENT
END:VCALENDAR