BEGIN:VCALENDAR
VERSION:2.0
PRODID:-//eventon.com NONSGML v1.0//EN
CALSCALE:GREGORIAN
METHOD:PUBLISH
BEGIN:VEVENT
UID:69e61c7ee22c1
DTSTAMP:20260420T123054Z
DTSTART:20220626T120000Z
DTEND:20220627T035000Z
LOCATION:Walkerton
SUMMARY:Confined Space Entry-WALKERTON
DESCRIPTION:Confined Space Entry-WALKERTON\nhttps://liunalocal1059.com/even
 ts/confined-space-entry-walkerton-5/
URL:https://liunalocal1059.com/events/confined-space-entry-walkerton-5/
END:VEVENT
END:VCALENDAR